BEGIN:VCALENDAR
VERSION:2.0
PRODID:-//Cvmm - ECPv4.8.2//NONSGML v1.0//EN
CALSCALE:GREGORIAN
METHOD:PUBLISH
X-WR-CALNAME:Cvmm
X-ORIGINAL-URL:https://www.cvmm.it
X-WR-CALDESC:Eventi per Cvmm
BEGIN:VEVENT
DTSTART;VALUE=DATE:20251018
DTEND;VALUE=DATE:20251020
DTSTAMP:20260421T164150
CREATED:20250331T135808Z
LAST-MODIFIED:20250331T135808Z
UID:7054-1760745600-1760918399@www.cvmm.it
SUMMARY:ElbaSwim 2025
DESCRIPTION:Nuotata in acque libere all’interno delle attività promosse da Abbracciamoli ONLUS per sostenere la lotta contro la leucemia infantile. Il CVMM sarà come sempre in prima linea per garantire assistenza e sicurezza ai nuotatori. \n
URL:https://www.cvmm.it/regata/elbaswim-2025
ATTACH;FMTTYPE=image/jpeg:https://www.cvmm.it/wp-content/uploads/2025/03/elbaswim-2025-cover-data5-1536x1024-1.jpg
END:VEVENT
END:VCALENDAR