BEGIN:VCALENDAR
VERSION:2.0
PRODID:-//Cvmm - ECPv4.8.2//NONSGML v1.0//EN
CALSCALE:GREGORIAN
METHOD:PUBLISH
X-WR-CALNAME:Cvmm
X-ORIGINAL-URL:https://www.cvmm.it
X-WR-CALDESC:Eventi per Cvmm
BEGIN:VEVENT
DTSTART;VALUE=DATE:20221022
DTEND;VALUE=DATE:20221024
DTSTAMP:20260421T083319
CREATED:20220925T143120Z
LAST-MODIFIED:20220925T143532Z
UID:5332-1666396800-1666569599@www.cvmm.it
SUMMARY:Elbaswim 647
DESCRIPTION:Elbaswim 647\, la ormai storica e gioiosa manifestazione organizzata da Abbracciamoli ONLUS con lo scopo di raccogliere fondi per sostenere la ricerca\, la cura e l’assistenza medica. \n
URL:https://www.cvmm.it/regata/elbaswim-647
ATTACH;FMTTYPE=image/png:https://www.cvmm.it/wp-content/uploads/2021/10/Progetto-senza-titolo-6.png
END:VEVENT
END:VCALENDAR