BEGIN:VCALENDAR
VERSION:2.0
PRODID:-//Cvmm - ECPv4.8.2//NONSGML v1.0//EN
CALSCALE:GREGORIAN
METHOD:PUBLISH
X-WR-CALNAME:Cvmm
X-ORIGINAL-URL:https://www.cvmm.it
X-WR-CALDESC:Eventi per Cvmm
BEGIN:VEVENT
DTSTART;VALUE=DATE:20260501
DTEND;VALUE=DATE:20260504
DTSTAMP:20260425T145412
CREATED:20260305T145308Z
LAST-MODIFIED:20260305T145308Z
UID:7650-1777593600-1777852799@www.cvmm.it
SUMMARY:Natural Parks Regatta
DESCRIPTION:Torna la terza edizione della veleggiata nel Golfo di Follonica e attorno all’Isola d’Elba. Organizzata da Yacht Club Punta Ala\, Marina di Punta Ala\, Marina di Scarlino  e CVMM\, la manifestazione è aperta a imbarcazioni da diporto con lunghezza fuori tutto superiore ai 9 metri. \n
URL:https://www.cvmm.it/regata/natural-parks-regatta-2
ATTACH;FMTTYPE=image/jpeg:https://www.cvmm.it/wp-content/uploads/2026/03/NaturalParks2026_0.jpg
END:VEVENT
END:VCALENDAR