BEGIN:VCALENDAR
VERSION:2.0
PRODID:-//Cvmm - ECPv4.8.2//NONSGML v1.0//EN
CALSCALE:GREGORIAN
METHOD:PUBLISH
X-WR-CALNAME:Cvmm
X-ORIGINAL-URL:https://www.cvmm.it
X-WR-CALDESC:Eventi per Cvmm
BEGIN:VEVENT
DTSTART;VALUE=DATE:20260514
DTEND;VALUE=DATE:20260518
DTSTAMP:20260425T130854
CREATED:20260305T150445Z
LAST-MODIFIED:20260305T150445Z
UID:7656-1778716800-1779062399@www.cvmm.it
SUMMARY:Route Tyrrhénienne
DESCRIPTION:Tornano i nostri amici corsi dello Yacht Club Campoloro  con la tradizionale veleggiata costiera che inaugura la loro stagione estiva\, da Marciana Marina allo Scoglietto di Portoferraio e ritorno. \n
URL:https://www.cvmm.it/regata/route-tyrrhenienne-4
ATTACH;FMTTYPE=image/png:https://www.cvmm.it/wp-content/uploads/2025/06/Progetto-senza-titolo-12.png
END:VEVENT
END:VCALENDAR