BEGIN:VCALENDAR
VERSION:2.0
PRODID:-//Cvmm - ECPv4.8.2//NONSGML v1.0//EN
CALSCALE:GREGORIAN
METHOD:PUBLISH
X-WR-CALNAME:Cvmm
X-ORIGINAL-URL:https://www.cvmm.it
X-WR-CALDESC:Eventi per Cvmm
BEGIN:VEVENT
DTSTART;VALUE=DATE:20260517
DTEND;VALUE=DATE:20260518
DTSTAMP:20260425T145652
CREATED:20260305T150938Z
LAST-MODIFIED:20260305T150938Z
UID:7658-1778976000-1779062399@www.cvmm.it
SUMMARY:Wingfoil Racing
DESCRIPTION:Il CVMM darà supporto al Wingfoil Racing\, l'evento di uno degli a sport acquatici più innovativi degli ultimi anni\,  nato dall’evoluzione del windsurf e del kitesurf. \n
URL:https://www.cvmm.it/regata/wingfoil-racing
ATTACH;FMTTYPE=image/jpeg:https://www.cvmm.it/wp-content/uploads/2026/03/WingFoil-Racing-World-Cup-turchia-Giorno-3.jpg
END:VEVENT
END:VCALENDAR